BEGIN:VCALENDAR
VERSION:2.0
PRODID:EVENTFROG//EVENT//ICAL
BEGIN:VEVENT
UID:20260419T145433Z-7447551669192162796@eventfrog.de
DTSTAMP:20260419T145433Z
DTSTART:20261006T063000Z
SUMMARY:AzubiSpot Bildungsmesse im Kino Regina Ellwangen
DESCRIPTION:Bildungsmesse für Ausbildung, Studium & Beruf im Kino\n\nhttps://eventfrog.de/de/p/messen/messe/azubispot-bildungsmesse-im-kino-regina-ellwangen-7447551669192162796.html
LOCATION:Kino Regina Ellwangen
GEO:48.964234;10.132938
URL:https://eventfrog.de/de/p/messen/messe/azubispot-bildungsmesse-im-kino-regina-ellwangen-7447551669192162796.html
END:VEVENT
END:VCALENDAR