BEGIN:VCALENDAR
VERSION:2.0
PRODID:EVENTFROG//EVENT//ICAL
BEGIN:VEVENT
UID:20260422T072804Z-7447601485368542762@eventfrog.de
DTSTAMP:20260422T072804Z
DTSTART:20260606T200000Z
DTEND:20260607T050000Z
SUMMARY:BURGBEBEN STRNBRG OPEN AIR
DESCRIPTION:Vom 5. bis 7. Juni bietet BURGBEBEN STRNBRG Workshops, Open Air Hip Hop, Dancehall, Reggae und pulsierende DJ-Nächte.\n\nhttps://eventfrog.de/de/p/festivals/weitere-festivals/burgbeben-strnbrg-open-air-7447601485368542762.html
LOCATION:Burg Sternberg
GEO:52.053310;9.048910
URL:https://eventfrog.de/de/p/festivals/weitere-festivals/burgbeben-strnbrg-open-air-7447601485368542762.html
END:VEVENT
END:VCALENDAR