BEGIN:VCALENDAR
VERSION:2.0
PRODID:EVENTFROG//EVENT//ICAL
BEGIN:VEVENT
UID:20260424T160349Z-7447650258622898109@eventfrog.de
DTSTAMP:20260424T160349Z
DTSTART:20260627T183000Z
DTEND:20260627T203000Z
SUMMARY:SauLustig - Comedy Showcase
DESCRIPTION:«SauLustig» bietet im Basler Comedy-Club The Beast monatlich Schweizerdeutsche Stand-up-Shows mit Newcomern und Top-Comedians.\n\nhttps://eventfrog.de/en/p/theatre-stage/comedy-cabaret/saulustig-comedy-showcase-7447650258622898109.html
LOCATION:The Beast Basel Comedy Club
GEO:47.556046;7.589448
URL:https://eventfrog.de/en/p/theatre-stage/comedy-cabaret/saulustig-comedy-showcase-7447650258622898109.html
END:VEVENT
END:VCALENDAR