BEGIN:VCALENDAR
VERSION:2.0
PRODID:EVENTFROG//EVENT//ICAL
BEGIN:VEVENT
UID:20260420T160146Z-7447731296829184854@eventfrog.de
DTSTAMP:20260420T160146Z
DTSTART:20260502T130000Z
DTEND:20260502T215900Z
SUMMARY:Spaten & Spritz bei REGEN406
DESCRIPTION:Ab 15 Uhr Spatenstich und Sektempfang, danach Musik, Hausführung, Kinderprogramm, Buffet und ab 20 Uhr Tanz, Karaoke und Lagerfeuer.\n\nhttps://eventfrog.de/de/p/diverses/spaten-spritz-bei-regen406-7447731296829184854.html
LOCATION:REGEN406
GEO:49.428448;11.139754
URL:https://eventfrog.de/de/p/diverses/spaten-spritz-bei-regen406-7447731296829184854.html
END:VEVENT
END:VCALENDAR