BEGIN:VCALENDAR
VERSION:2.0
PRODID:EVENTFROG//EVENT//ICAL
BEGIN:VEVENT
UID:20260421T040432Z-7447738775403263529@eventfrog.de
DTSTAMP:20260421T040432Z
DTSTART:20260430T200000Z
DTEND:20260501T030000Z
SUMMARY:TECHNO ZENTRALE PRES. FIRST RAVE
DESCRIPTION:Lokale DJs bringen am Bodensee mit Hard Techno und Bounce eine neue Partyreihe zum Tanzen und Feiern zum Start.\n\nhttps://eventfrog.de/de/p/partys/house-techno/techno-zentrale-pres-first-rave-7447738775403263529.html
LOCATION:Central Bar
GEO:47.855481;8.772523
URL:https://eventfrog.de/de/p/partys/house-techno/techno-zentrale-pres-first-rave-7447738775403263529.html
END:VEVENT
END:VCALENDAR