BEGIN:VCALENDAR
VERSION:2.0
PRODID:EVENTFROG//EVENT//ICAL
BEGIN:VEVENT
UID:20260424T093317Z-7447761264984508124@eventfrog.de
DTSTAMP:20260424T093317Z
DTSTART:20261101T091500Z
DTEND:20261101T100000Z
SUMMARY:Geschichten-Herbst - Theater Bilitz
DESCRIPTION:Geschichten-Herbst - Theater Bilitz\n\nhttps://eventfrog.de/de/p/theater-buehne/geschichten-herbst-theater-bilitz-7447761264984508124.html
LOCATION:Theaterhaus Thurgau
GEO:47.567580;9.103460
URL:https://eventfrog.de/de/p/theater-buehne/geschichten-herbst-theater-bilitz-7447761264984508124.html
END:VEVENT
END:VCALENDAR