BEGIN:VCALENDAR
VERSION:2.0
PRODID:EVENTFROG//EVENT//ICAL
BEGIN:VEVENT
UID:20260424T110833Z-7447921092172207662@eventfrog.de
DTSTAMP:20260424T110833Z
DTSTART:20260813T160000Z
DTEND:20260813T190000Z
SUMMARY:Tesla Owners Switzerland - Community MeetUp Region Zürich
DESCRIPTION:Treffpunkt im Restaurant für Tesla Clubmitglieder und Elektromobilitäts-Interessierte mit Beisammensein, Referaten und News jeden zweiten Donnerstag.\n\nhttps://eventfrog.de/de/p/essen-trinken/tesla-owners-switzerland-community-meetup-region-zuerich-7447921092172207662.html
LOCATION:Restaurant "im Speck"
GEO:47.375475;8.761615
URL:https://eventfrog.de/de/p/essen-trinken/tesla-owners-switzerland-community-meetup-region-zuerich-7447921092172207662.html
END:VEVENT
END:VCALENDAR