BEGIN:VCALENDAR
VERSION:2.0
PRODID:EVENTFROG//EVENT//ICAL
BEGIN:VEVENT
UID:20260422T164732Z-7448022759517487020@eventfrog.de
DTSTAMP:20260422T164732Z
DTSTART:20260425T080000Z
DTEND:20260425T120000Z
SUMMARY:Großer Secondhand-Trachtenmarkt in Bernried
DESCRIPTION:Secondhand-Trachtenmarkt in Bernried bietet über 2000 Teile, Erlös unterstützt die Schulausbildung in Uganda.\n\nhttps://eventfrog.de/de/p/maerkte/second-hand/grosser-secondhand-trachtenmarkt-in-bernried-7448022759517487020.html
LOCATION:Sommerkeller, Salettl des Gasthofes 3 Rosen, Torbogenhalle im Klosterhof, Buchheimmuseum
GEO:47.864397;11.283754
URL:https://eventfrog.de/de/p/maerkte/second-hand/grosser-secondhand-trachtenmarkt-in-bernried-7448022759517487020.html
END:VEVENT
END:VCALENDAR