BEGIN:VCALENDAR
VERSION:2.0
PRODID:EVENTFROG//EVENT//ICAL
BEGIN:VEVENT
UID:20260422T181518Z-7448051681135182717@eventfrog.de
DTSTAMP:20260422T181518Z
DTSTART:20260509T170000Z
DTEND:20260510T200000Z
SUMMARY:WIR SIND DIE NEUEN - Theaterkomödie
DESCRIPTION:Gesellschaftskomödie mit viel Humor über das Leben zweier unterschiedlicher Wohngemeinschaften.\nAlthippies treffen auf spießige Studenten.\n\nhttps://eventfrog.de/de/p/theater-buehne/buehnenveranstaltung/wir-sind-die-neuen-theaterkomoedie-7448051681135182717.html
LOCATION:Ludwigstraße 73
GEO:48.240930;12.686818
URL:https://eventfrog.de/de/p/theater-buehne/buehnenveranstaltung/wir-sind-die-neuen-theaterkomoedie-7448051681135182717.html
END:VEVENT
END:VCALENDAR