BEGIN:VCALENDAR
VERSION:2.0
PRODID:EVENTFROG//EVENT//ICAL
BEGIN:VEVENT
UID:20260421T182101Z-7448125643332543527@eventfrog.de
DTSTAMP:20260421T182101Z
DTSTART:20260528T120000Z
DTEND:20260528T130000Z
SUMMARY:Barrierefreiheit bei Dokumenten erreichen
DESCRIPTION:Alexander Pfingstl & Moira Albrecht vermitteln in ca. 45 Minuten praxisnah Grundlagen zur barrierefreien Erstellung digitaler Dokumente.\n\nhttps://eventfrog.de/de/p/kurse-seminare/sonstige-kurse-seminare/barrierefreiheit-bei-dokumenten-erreichen-7448125643332543527.html
LOCATION:Hybrid - Online oder im Kap Europa, Frankfurt
URL:https://eventfrog.de/de/p/kurse-seminare/sonstige-kurse-seminare/barrierefreiheit-bei-dokumenten-erreichen-7448125643332543527.html
END:VEVENT
END:VCALENDAR