BEGIN:VCALENDAR
VERSION:2.0
PRODID:EVENTFROG//EVENT//ICAL
BEGIN:VEVENT
UID:20260419T161029Z-7448264075144893118@eventfrog.de
DTSTAMP:20260419T161029Z
DTSTART:20260504T070000Z
DTEND:20260731T140000Z
SUMMARY:IPMA Level D Zertifizierung Projektmanagement
DESCRIPTION:Zertifizierung für Projektmanagement-Anfänger und -Erfahrene nach IPMA-Richtlinien. Anstreben des Certified Project Management Associate Level D.\n\nhttps://eventfrog.de/de/p/kurse-seminare/berufliche-bildung/ipma-level-d-zertifizierung-projektmanagement-7448264075144893118.html
LOCATION:E-Learning
URL:https://eventfrog.de/de/p/kurse-seminare/berufliche-bildung/ipma-level-d-zertifizierung-projektmanagement-7448264075144893118.html
END:VEVENT
END:VCALENDAR