BEGIN:VCALENDAR
VERSION:2.0
PRODID:EVENTFROG//EVENT//ICAL
BEGIN:VEVENT
UID:20260419T160156Z-7448264291562599143@eventfrog.de
DTSTAMP:20260419T160156Z
DTSTART:20260504T070000Z
DTEND:20260731T140000Z
SUMMARY:Strategisches Multiprojektmanagement
DESCRIPTION:Erfahre, wie du Projekte strategisch ausrichtest und auf die richtigen Projekte setzt. Kurs für Projektmanagementexperten.\n\nhttps://eventfrog.de/de/p/kurse-seminare/berufliche-bildung/strategisches-multiprojektmanagement-7448264291562599143.html
LOCATION:E-.Learning
URL:https://eventfrog.de/de/p/kurse-seminare/berufliche-bildung/strategisches-multiprojektmanagement-7448264291562599143.html
END:VEVENT
END:VCALENDAR