BEGIN:VCALENDAR
VERSION:2.0
PRODID:EVENTFROG//EVENT//ICAL
BEGIN:VEVENT
UID:20260422T064141Z-7448290905658793035@eventfrog.de
DTSTAMP:20260422T064141Z
DTSTART:20260425T080000Z
DTEND:20260425T140000Z
SUMMARY:Besuchertag und Saisoneröffnung in Biesenthal
DESCRIPTION:Am 25. April 2026 laden die Hoffnungstaler Werkstätten zum großen Besuchertag ein. Von 10:00 bis 16:00 Uhr erwartet Sie im Sydower Feld 1 \n\nhttps://eventfrog.de/de/p/essen-trinken/besuchertag-und-saisoneroeffnung-in-biesenthal-7448290905658793035.html
LOCATION:Hoffnungstaler Werkstätten gGmbH
GEO:52.752825;13.676604
URL:https://eventfrog.de/de/p/essen-trinken/besuchertag-und-saisoneroeffnung-in-biesenthal-7448290905658793035.html
END:VEVENT
END:VCALENDAR