BEGIN:VCALENDAR
VERSION:2.0
PRODID:EVENTFROG//EVENT//ICAL
BEGIN:VEVENT
UID:20260425T040704Z-7448300164568086705@eventfrog.de
DTSTAMP:20260425T040704Z
DTSTART:20260429T170000Z
DTEND:20260429T183000Z
SUMMARY:Buchvorstellung
DESCRIPTION:Buchvorstellung und Gespräch mit anschließender Diskussion    Hendrik Cremer, Auror mit Christian Winter,MdL\n\nhttps://eventfrog.de/de/p/diverses/buchvorstellung-7448300164568086705.html
LOCATION:Edith-Stein-Schule
GEO:53.327216;11.492244
URL:https://eventfrog.de/de/p/diverses/buchvorstellung-7448300164568086705.html
END:VEVENT
END:VCALENDAR