BEGIN:VCALENDAR
VERSION:2.0
PRODID:EVENTFROG//EVENT//ICAL
BEGIN:VEVENT
UID:20260424T085235Z-7448413191833407173@eventfrog.de
DTSTAMP:20260424T085235Z
DTSTART:20261231T170000Z
DTEND:20270101T000000Z
SUMMARY:Falkenstein Silvester
DESCRIPTION:Feiern Sie Silvester ab 18 Uhr mit Fondue Chinoise, Schlemmerbuffet und Mitternachtsfeuerwerk auf der Terrasse.\n\nhttps://eventfrog.de/de/p/essen-trinken/falkenstein-silvester-7448413191833407173.html
LOCATION:Falkenstein
GEO:47.372439;7.990908
URL:https://eventfrog.de/de/p/essen-trinken/falkenstein-silvester-7448413191833407173.html
END:VEVENT
END:VCALENDAR