BEGIN:VCALENDAR
VERSION:2.0
PRODID:EVENTFROG//EVENT//ICAL
BEGIN:VEVENT
UID:20260426T005011Z-7448434183876170285@eventfrog.de
DTSTAMP:20260426T005011Z
DTSTART:20260426T170000Z
DTEND:20260426T193000Z
SUMMARY:Nomadic FLAMENCO JAZZ mit Lara Wong & Mélon Jimenez
DESCRIPTION:Melón Jiménez und Lara Wong verbinden Flamenco mit Jazz und Weltmusik zu einem leidenschaftlichen, vielschichtigen musikalischen Dialog.\n\nhttps://eventfrog.de/de/p/konzerte/jazz-blues/nomadic-flamenco-jazz-mit-lara-wong-melon-jimenez-7448434183876170285.html
LOCATION:Theater im Hinterhof
GEO:53.466727;9.689307
URL:https://eventfrog.de/de/p/konzerte/jazz-blues/nomadic-flamenco-jazz-mit-lara-wong-melon-jimenez-7448434183876170285.html
END:VEVENT
END:VCALENDAR