BEGIN:VCALENDAR
VERSION:2.0
PRODID:EVENTFROG//EVENT//ICAL
BEGIN:VEVENT
UID:20260424T092323Z-7448490576956140805@eventfrog.de
DTSTAMP:20260424T092323Z
DTSTART:20260509T080000Z
DTEND:20260509T094500Z
SUMMARY:Stadtapéro
DESCRIPTION:Informationen zu drei städtischen Themen.\n\nhttps://eventfrog.de/de/p/diverses/stadtapero-7448490576956140805.html
LOCATION:Fürstenlandsaal
GEO:47.414243;9.252605
URL:https://eventfrog.de/de/p/diverses/stadtapero-7448490576956140805.html
END:VEVENT
END:VCALENDAR