BEGIN:VCALENDAR
VERSION:2.0
PRODID:EVENTFROG//EVENT//ICAL
BEGIN:VEVENT
UID:20260424T082143Z-7448987489526613980@eventfrog.de
DTSTAMP:20260424T082143Z
DTSTART:20260627T163000Z
DTEND:20260627T230000Z
SUMMARY:Wine and Dine
DESCRIPTION:Das Restaurant Angleterre bietet ab 18:30 Uhr ein Menü mit Weinen der Kellerei Gregor Kuonen aus Salgesch.\n\nhttps://eventfrog.de/de/p/essen-trinken/wine-and-dine-7448987489526613980.html
LOCATION:ANGLETERRE RESTAURANT & LOUNGE BRIG
GEO:46.316218;7.989416
URL:https://eventfrog.de/de/p/essen-trinken/wine-and-dine-7448987489526613980.html
END:VEVENT
END:VCALENDAR