BEGIN:VCALENDAR
VERSION:2.0
PRODID:EVENTFROG//EVENT//ICAL
BEGIN:VEVENT
UID:20260425T192608Z-7449090690758259195@eventfrog.de
DTSTAMP:20260425T192608Z
DTSTART:20260620T181500Z
SUMMARY:STOK ET LE CIRQUE OUBLIÉ
DESCRIPTION:STOK ET LE CIRQUE OUBLIÉ est une aventure musicale et théâtrale qui plongera le public dans l'atmosphère si particulière de la piste aux étoiles. \n\nhttps://eventfrog.de/fr/p/comedies-musicales-spectacles/comedie-musicale/stok-et-le-cirque-oublie-7449090690758259195.html
LOCATION:Salle communale
GEO:46.600575;6.681373
URL:https://eventfrog.de/fr/p/comedies-musicales-spectacles/comedie-musicale/stok-et-le-cirque-oublie-7449090690758259195.html
END:VEVENT
END:VCALENDAR