BEGIN:VCALENDAR
VERSION:2.0
PRODID:EVENTFROG//EVENT//ICAL
BEGIN:VEVENT
UID:20260419T133522Z-7449103796691566232@eventfrog.de
DTSTAMP:20260419T133522Z
DTSTART:20260711T080000Z
DTEND:20260712T200000Z
SUMMARY:Sigriswiler Heimattage
DESCRIPTION:Festprogramm:\nBegrüssung in der Kirche\nFestgottesdienst\nAusstellung von Stammbäumen\nUnterhaltung am Samstag und Sonntag im Festzelt\n\n\nhttps://eventfrog.de/de/p/diverses/sigriswiler-heimattage-7449103796691566232.html
LOCATION:Viehschauplatz, Turnhalle
GEO:46.716891;7.709104
URL:https://eventfrog.de/de/p/diverses/sigriswiler-heimattage-7449103796691566232.html
END:VEVENT
END:VCALENDAR