BEGIN:VCALENDAR
VERSION:2.0
PRODID:EVENTFROG//EVENT//ICAL
BEGIN:VEVENT
UID:20260421T133843Z-7449170300808240331@eventfrog.de
DTSTAMP:20260421T133843Z
DTSTART:20260731T170000Z
DTEND:20260731T181500Z
SUMMARY:Miss Marple – Der Wachsblumenstrauß
DESCRIPTION:»Vampire wie wir« im Feinkost-Sommertheater: Tauche ein in das untote Leben zweier ganz normaler Vampire wie du und ich. Ewiges Leben winkt! Ein blutsaugender Spaß für alle ab dem vampirfähigen Alter.\n\nhttps://eventfrog.de/de/p/theater-buehne/theater/miss-marple-der-wachsblumenstrauss-7449170300808240331.html
LOCATION:Hof der Feinkost, Karl-Liebknecht-Str. 36, 04107 Leipzig
GEO:51.326446;12.372892
URL:https://eventfrog.de/de/p/theater-buehne/theater/miss-marple-der-wachsblumenstrauss-7449170300808240331.html
END:VEVENT
END:VCALENDAR