BEGIN:VCALENDAR
VERSION:2.0
PRODID:EVENTFROG//EVENT//ICAL
BEGIN:VEVENT
UID:20260420T104211Z-7449186754978943383@eventfrog.de
DTSTAMP:20260420T104211Z
DTSTART:20260425T080000Z
DTEND:20260425T130000Z
SUMMARY:Trödelmarkt
DESCRIPTION:Im grossen Festzelt findet der Trödelmarkt mit Kuchenmeile und Bratwurst statt, organisiert vom Waschbär Verein.\n\nhttps://eventfrog.de/de/p/maerkte/flohmarkt/troedelmarkt-7449186754978943383.html
LOCATION:Festzelt auf dem Festplatz
GEO:52.507035;13.849977
URL:https://eventfrog.de/de/p/maerkte/flohmarkt/troedelmarkt-7449186754978943383.html
END:VEVENT
END:VCALENDAR