BEGIN:VCALENDAR
VERSION:2.0
PRODID:EVENTFROG//EVENT//ICAL
BEGIN:VEVENT
UID:20260420T032319Z-7449368409014325129@eventfrog.de
DTSTAMP:20260420T032319Z
DTSTART:20260423T193000Z
DTEND:20260424T000000Z
SUMMARY:RITMO IV- WORLD CUP EDITION
DESCRIPTION:Get ready to dance and vibe as RITMO IV brings the World Cup energy to the party!\n\nhttps://eventfrog.de/fr/p/divers/ritmo-iv-world-cup-edition-7449368409014325129.html
LOCATION:Refuge d'Ecublens
GEO:46.541939;6.561761
URL:https://eventfrog.de/fr/p/divers/ritmo-iv-world-cup-edition-7449368409014325129.html
END:VEVENT
END:VCALENDAR