BEGIN:VCALENDAR
VERSION:2.0
PRODID:EVENTFROG//EVENT//ICAL
BEGIN:VEVENT
UID:20260422T181519Z-7449382107997036957@eventfrog.de
DTSTAMP:20260422T181519Z
DTSTART:20260509T130000Z
DTEND:20260509T153000Z
SUMMARY:Handpan Beginner-Workshop in Bremen
DESCRIPTION:Die Handpan fasziniert mit magischen Klängen. Leicht zu lernen durch wenige harmonische Töne. Anschlagtechnik und erste Melodien/Rhythmen werden gelehrt.\n\nhttps://eventfrog.de/de/p/kurse-seminare/musik-tanz/handpan-beginner-workshop-in-bremen-7449382107997036957.html
LOCATION:Bercksstr. 27, 28359 Bremen
URL:https://eventfrog.de/de/p/kurse-seminare/musik-tanz/handpan-beginner-workshop-in-bremen-7449382107997036957.html
END:VEVENT
END:VCALENDAR