BEGIN:VCALENDAR
VERSION:2.0
PRODID:EVENTFROG//EVENT//ICAL
BEGIN:VEVENT
UID:20260422T200656Z-7449456261974728531@eventfrog.de
DTSTAMP:20260422T200656Z
DTSTART:20260509T180000Z
DTEND:20260509T200000Z
SUMMARY:Crossing Strings LIVE @ KulturSchusterei
DESCRIPTION:Das Crossover-Gitarrenduo präsentiert "Interwoven", ein neues Programm mit verschmolzenen Musikstilen, inspiriert von ihren Erlebnissen und Touren. \n\nhttps://eventfrog.de/de/p/konzerte/jazz-blues/crossing-strings-live-kulturschusterei-7449456261974728531.html
LOCATION:KulturSchusterei
GEO:53.788982;9.771633
URL:https://eventfrog.de/de/p/konzerte/jazz-blues/crossing-strings-live-kulturschusterei-7449456261974728531.html
END:VEVENT
END:VCALENDAR