BEGIN:VCALENDAR
VERSION:2.0
PRODID:EVENTFROG//EVENT//ICAL
BEGIN:VEVENT
UID:20260424T104952Z-7449486462678993881@eventfrog.de
DTSTAMP:20260424T104952Z
DTSTART:20261121T191500Z
DTEND:20261121T210000Z
SUMMARY:SVEN IVANIĆ
DESCRIPTION:LUEGEMER SPONTI\nAuthentisch. Musikalisch. Spontan.\n\n\n\nhttps://eventfrog.de/de/p/theater-buehne/comedy-kabarett/sven-ivani-7449486462678993881.html
LOCATION:Aula Schulanlage Unterboden
GEO:47.488470;8.290582
URL:https://eventfrog.de/de/p/theater-buehne/comedy-kabarett/sven-ivani-7449486462678993881.html
END:VEVENT
END:VCALENDAR