BEGIN:VCALENDAR
VERSION:2.0
PRODID:EVENTFROG//EVENT//ICAL
BEGIN:VEVENT
UID:20260424T062108Z-7449494226209875510@eventfrog.de
DTSTAMP:20260424T062108Z
DTSTART:20260509T120000Z
DTEND:20260509T143000Z
SUMMARY:VHS-Führung: Modellsegelflug am Grünen Heiner 9. Mai 2026
DESCRIPTION:Flugvorführung und betreutes Fliegen (Lehrer-Schüler-Fliegen) am Grünen Heiner in Stuttgart-Weilimdorf am 9. Mai 2026 ab 14:00 Uhr.\n\nhttps://eventfrog.de/de/p/freizeit-ausfluege/ausflug/vhs-fuehrung-modellsegelflug-am-gruenen-heiner-9-mai-2026-7449494226209875510.html
LOCATION:Parkplatz Grüner Heiner
GEO:48.832798;9.096241
URL:https://eventfrog.de/de/p/freizeit-ausfluege/ausflug/vhs-fuehrung-modellsegelflug-am-gruenen-heiner-9-mai-2026-7449494226209875510.html
END:VEVENT
END:VCALENDAR