BEGIN:VCALENDAR
VERSION:2.0
PRODID:EVENTFROG//EVENT//ICAL
BEGIN:VEVENT
UID:20260422T181520Z-7449510902263510405@eventfrog.de
DTSTAMP:20260422T181520Z
DTSTART:20260523T214500Z
DTEND:20260524T040000Z
SUMMARY:BLVZE x CitrusCue pres. ESC (UK), HLM
DESCRIPTION:A night full of UKG and Bass music feat. ESC straight from London\n\nhttps://eventfrog.de/de/p/partys/house-techno/blvze-x-citruscue-pres-esc-uk-hlm-7449510902263510405.html
LOCATION:Club Lucia
GEO:48.209094;16.338794
URL:https://eventfrog.de/de/p/partys/house-techno/blvze-x-citruscue-pres-esc-uk-hlm-7449510902263510405.html
END:VEVENT
END:VCALENDAR