BEGIN:VCALENDAR
VERSION:2.0
PRODID:EVENTFROG//EVENT//ICAL
BEGIN:VEVENT
UID:20260421T094434Z-7449544422469956594@eventfrog.de
DTSTAMP:20260421T094434Z
DTSTART:20260724T140000Z
DTEND:20260726T100000Z
SUMMARY:Schlupfloch Festival 2026
DESCRIPTION:Schlupfloch Festival am 24.-25. Juli 2026 auf der Beguttenalp\n\nhttps://eventfrog.de/de/p/festivals/pop-rock/schlupfloch-festival-2026-7449544422469956594.html
LOCATION:Ferienheim Beguttenalp
GEO:47.418460;7.985577
URL:https://eventfrog.de/de/p/festivals/pop-rock/schlupfloch-festival-2026-7449544422469956594.html
END:VEVENT
END:VCALENDAR