BEGIN:VCALENDAR
VERSION:2.0
PRODID:EVENTFROG//EVENT//ICAL
BEGIN:VEVENT
UID:20260420T080137Z-7449558348599433758@eventfrog.de
DTSTAMP:20260420T080137Z
DTSTART:20260424T200000Z
DTEND:20260425T030000Z
SUMMARY:GODRAVE - THE LAST OF THE SEASON
DESCRIPTION:Am 24.04.26 steigt im Rhymes Club Dillingen der letzte GODRAVE der Saison mit DJs, Lichtshow, Sound und spannenden Aktionen.\n\nhttps://eventfrog.de/de/p/partys/electro/godrave-the-last-of-the-season-7449558348599433758.html
LOCATION:Club Rhymes
GEO:48.581069;10.492345
URL:https://eventfrog.de/de/p/partys/electro/godrave-the-last-of-the-season-7449558348599433758.html
END:VEVENT
END:VCALENDAR