BEGIN:VCALENDAR
VERSION:2.0
PRODID:EVENTFROG//EVENT//ICAL
BEGIN:VEVENT
UID:20260424T083606Z-7449577781971666281@eventfrog.de
DTSTAMP:20260424T083606Z
DTSTART:20260626T170000Z
SUMMARY:Lesung mit Anna Rosenwasser
DESCRIPTION:Lesung mit Anna Rosenwasser\n\nhttps://eventfrog.de/de/p/theater-buehne/lesung-mit-anna-rosenwasser-7449577781971666281.html
LOCATION:Haffterpark
GEO:47.569705;9.109055
URL:https://eventfrog.de/de/p/theater-buehne/lesung-mit-anna-rosenwasser-7449577781971666281.html
END:VEVENT
END:VCALENDAR