BEGIN:VCALENDAR
VERSION:2.0
PRODID:EVENTFROG//EVENT//ICAL
BEGIN:VEVENT
UID:20260420T055132Z-7449704037824349693@eventfrog.de
DTSTAMP:20260420T055132Z
DTSTART:20261020T070000Z
DTEND:20261020T140000Z
SUMMARY:Kurs Gehirnjogging - stärken Sie Ihre mentale Fitness
DESCRIPTION:Für alle, die geistig fit bleiben wollen - spielerisch, bewegt und mit Humor\n\nhttps://eventfrog.de/de/p/gesundheit-spiritualitaet/gesundheit-wohlbefinden/kurs-gehirnjogging-staerken-sie-ihre-mentale-fitness-7449704037824349693.html
LOCATION:Schweizerisches Rotes Kreuz (SRK) Kanton Bern, Region Oberaargau
GEO:47.226681;7.786010
URL:https://eventfrog.de/de/p/gesundheit-spiritualitaet/gesundheit-wohlbefinden/kurs-gehirnjogging-staerken-sie-ihre-mentale-fitness-7449704037824349693.html
END:VEVENT
END:VCALENDAR