BEGIN:VCALENDAR
VERSION:2.0
PRODID:EVENTFROG//EVENT//ICAL
BEGIN:VEVENT
UID:20260421T180542Z-7449718513512520716@eventfrog.de
DTSTAMP:20260421T180542Z
DTSTART:20260529T130000Z
DTEND:20260529T134500Z
SUMMARY:Mit TACO Emotionen spürbar machen
DESCRIPTION:Marie Herz präsentiert das TACO-System, das Emotionen haptisch überträgt; Teilnehmende erhalten Einblick und können mitgestalten.\n\nhttps://eventfrog.de/de/p/kurse-seminare/sonstige-kurse-seminare/mit-taco-emotionen-spuerbar-machen-7449718513512520716.html
LOCATION:Hybrid - Online oder im Kap Europa, Frankfurt
URL:https://eventfrog.de/de/p/kurse-seminare/sonstige-kurse-seminare/mit-taco-emotionen-spuerbar-machen-7449718513512520716.html
END:VEVENT
END:VCALENDAR