BEGIN:VCALENDAR
VERSION:2.0
PRODID:EVENTFROG//EVENT//ICAL
BEGIN:VEVENT
UID:20260424T100421Z-7449743239148511371@eventfrog.de
DTSTAMP:20260424T100421Z
DTSTART:20260901T113000Z
DTEND:20260901T160000Z
SUMMARY:Café Rosengarten
DESCRIPTION:Café Rosengarten geöffnet ab 12. Mai bis 24. September jeweils Dienstag und Donnerstag ab 13:30 bis 18:00 bei trockener Witterung.\n\nhttps://eventfrog.de/de/p/essen-trinken/cafe-rosengarten-7449743239148511371.html
LOCATION:Café Rosengarten
GEO:47.289970;7.950597
URL:https://eventfrog.de/de/p/essen-trinken/cafe-rosengarten-7449743239148511371.html
END:VEVENT
END:VCALENDAR