BEGIN:VCALENDAR
VERSION:2.0
PRODID:EVENTFROG//EVENT//ICAL
BEGIN:VEVENT
UID:20260424T031236Z-7449767750388438082@eventfrog.de
DTSTAMP:20260424T031236Z
DTSTART:20260430T180000Z
DTEND:20260501T000000Z
SUMMARY:Tanz in den Mai -die beste Party in Düsseldorf
DESCRIPTION:PONG Ehrenhof 2, 40479 Düsseldorf, Düsseldorf, Germany\nWir feiern mit euch Düsseldorfs „Tanz in den Mai“-Party! Den ganzen Abend gibt es die feinsten Soul- und Disco-Nummern – und zwar stilecht komple\n\nhttps://eventfrog.de/de/p/partys/funk-soul/tanz-in-den-mai-die-beste-party-in-duesseldorf-7449767750388438082.html
LOCATION:PONG/ NRW- Forum
GEO:51.233378;6.772039
URL:https://eventfrog.de/de/p/partys/funk-soul/tanz-in-den-mai-die-beste-party-in-duesseldorf-7449767750388438082.html
END:VEVENT
END:VCALENDAR