BEGIN:VCALENDAR
VERSION:2.0
PRODID:EVENTFROG//EVENT//ICAL
BEGIN:VEVENT
UID:20260423T063308Z-7449774893560774770@eventfrog.de
DTSTAMP:20260423T063308Z
DTSTART:20260522T073000Z
DTEND:20260522T093000Z
SUMMARY:Öffentl. Sprechstunde der AG Horster Ortsarchiv in der VHS
DESCRIPTION:Öffentliche Sprechstunde der AG Horster Ortsarchiv in der VHS Horst (Holstein)\n\nhttps://eventfrog.de/de/p/kurse-seminare/freizeit-hobby/oeffentl-sprechstunde-der-ag-horster-ortsarchiv-in-der-vhs-7449774893560774770.html
LOCATION:Vereinshaus "Op de Host"
GEO:53.810910;9.615850
URL:https://eventfrog.de/de/p/kurse-seminare/freizeit-hobby/oeffentl-sprechstunde-der-ag-horster-ortsarchiv-in-der-vhs-7449774893560774770.html
END:VEVENT
END:VCALENDAR