BEGIN:VCALENDAR
VERSION:2.0
PRODID:EVENTFROG//EVENT//ICAL
BEGIN:VEVENT
UID:20260420T224322Z-7449781542975496302@eventfrog.de
DTSTAMP:20260420T224322Z
DTSTART:20260609T180000Z
SUMMARY:Tridiculous - Die Show
DESCRIPTION:\nDas außergewöhnliche Trio aus Breakdance, Akrobatik, Musik und Humor begeistert am 09. und 10.06.2026 live in der Ufa Fabrik Berlin.\n\n\nhttps://eventfrog.de/de/p/theater-buehne/comedy-kabarett/tridiculous-die-show-7449781542975496302.html
LOCATION:ufaFabrik
GEO:52.454641;13.381850
URL:https://eventfrog.de/de/p/theater-buehne/comedy-kabarett/tridiculous-die-show-7449781542975496302.html
END:VEVENT
END:VCALENDAR