BEGIN:VCALENDAR
VERSION:2.0
PRODID:EVENTFROG//EVENT//ICAL
BEGIN:VEVENT
UID:20260420T012552Z-7449805473639833986@eventfrog.de
DTSTAMP:20260420T012552Z
DTSTART:20260425T133000Z
SUMMARY:Bollwerk Open – Frühlingsfest
DESCRIPTION:Bollwerk 107 öffnet alle Türen mit Konzerten, Workshops und Jam Sessions zur 17-Jahr-Feier. Eintritt frei!\n\nhttps://eventfrog.de/de/p/diverses/bollwerk-open-fruehlingsfest-7449805473639833986.html
LOCATION:Bollwerk 107, Zum Bollwerk 107, 47441 Moers
GEO:51.451604;6.640815
URL:https://eventfrog.de/de/p/diverses/bollwerk-open-fruehlingsfest-7449805473639833986.html
END:VEVENT
END:VCALENDAR