BEGIN:VCALENDAR
VERSION:2.0
PRODID:EVENTFROG//EVENT//ICAL
BEGIN:VEVENT
UID:20260424T023010Z-7449806507108000917@eventfrog.de
DTSTAMP:20260424T023010Z
DTSTART:20260426T090000Z
SUMMARY:Schallplattenmarkt
DESCRIPTION:Die Schallplattenbörse im Bollwerk 107 lädt von 11-16 Uhr zum Stöbern, Verhandeln und Kaufen ein.\n\nhttps://eventfrog.de/de/p/maerkte/second-hand/schallplattenmarkt-7449806507108000917.html
LOCATION:Bollwerk 107, Zum Bollwerk 107, 47441 Moers
GEO:51.451604;6.640815
URL:https://eventfrog.de/de/p/maerkte/second-hand/schallplattenmarkt-7449806507108000917.html
END:VEVENT
END:VCALENDAR