BEGIN:VCALENDAR
VERSION:2.0
PRODID:EVENTFROG//EVENT//ICAL
BEGIN:VEVENT
UID:20260423T011728Z-7449807624978081198@eventfrog.de
DTSTAMP:20260423T011728Z
DTSTART:20260423T173000Z
DTEND:20260423T190000Z
SUMMARY:Autorenlesung Unbekannte Helden
DESCRIPTION:Oliver C. Bonzol liest am 23.4. in Mülheim aus seinem Thriller «UNBEKANNTE HELDEN» und gewährt Einblicke in die Geschichte.\n\nhttps://eventfrog.de/de/p/theater-buehne/lesung/autorenlesung-unbekannte-helden-7449807624978081198.html
LOCATION:Cafeteria In Der Begegnungsstätte Feldmann-Stiftung
GEO:51.454525;6.862989
URL:https://eventfrog.de/de/p/theater-buehne/lesung/autorenlesung-unbekannte-helden-7449807624978081198.html
END:VEVENT
END:VCALENDAR