BEGIN:VCALENDAR
VERSION:2.0
PRODID:EVENTFROG//EVENT//ICAL
BEGIN:VEVENT
UID:20260424T093327Z-7449843308665298790@eventfrog.de
DTSTAMP:20260424T093327Z
DTSTART:20260528T170000Z
DTEND:20260528T194500Z
SUMMARY:Knusperli-Schifff uff em Rhy
DESCRIPTION:Geniesse knusprige Knusperli mit Beilagen auf einer Rheinfahrt in Basel. Unkomplizierter Genussabend mit Stadtblick.\n\nhttps://eventfrog.de/de/p/essen-trinken/knusperli-schifff-uff-em-rhy-7449843308665298790.html
LOCATION:Rhystärn der Basler Personenschifffahrt AG
GEO:47.559852;7.588288
URL:https://eventfrog.de/de/p/essen-trinken/knusperli-schifff-uff-em-rhy-7449843308665298790.html
END:VEVENT
END:VCALENDAR