BEGIN:VCALENDAR
VERSION:2.0
PRODID:EVENTFROG//EVENT//ICAL
BEGIN:VEVENT
UID:20260424T094200Z-7449878234395632863@eventfrog.de
DTSTAMP:20260424T094200Z
DTSTART:20260613T110000Z
DTEND:20260613T140000Z
SUMMARY:Austausch für Eltern und Angehörige zum Thema Essstörungen
DESCRIPTION:Einmal im Monat treffen sich Angehörige von Essstörung-Betroffenen in Winterthur zum vertraulichen Austausch mit Peer-Expertinnen.\n\nhttps://eventfrog.de/de/p/gesundheit-spiritualitaet/gesundheit-wohlbefinden/austausch-fuer-eltern-und-angehoerige-zum-thema-essstoerungen-7449878234395632863.html
LOCATION:Stiftung Windlicht
GEO:47.500218;8.732858
URL:https://eventfrog.de/de/p/gesundheit-spiritualitaet/gesundheit-wohlbefinden/austausch-fuer-eltern-und-angehoerige-zum-thema-essstoerungen-7449878234395632863.html
END:VEVENT
END:VCALENDAR