BEGIN:VCALENDAR
VERSION:2.0
PRODID:EVENTFROG//EVENT//ICAL
BEGIN:VEVENT
UID:20260419T130939Z-7449934794241111365@eventfrog.de
DTSTAMP:20260419T130939Z
DTSTART:20261121T200000Z
DTEND:20261122T020000Z
SUMMARY:Just can&#8217;t get enough &#8211; 80&#8217;s Party!
DESCRIPTION:Die legendäre Wiler 80er Party!\n\nhttps://eventfrog.de/de/p/partys/just-can-8217-t-get-enough-8211-80-8217-s-party-7449934794241111365.html
LOCATION:Gare de Lion
GEO:47.461330;9.032780
URL:https://eventfrog.de/de/p/partys/just-can-8217-t-get-enough-8211-80-8217-s-party-7449934794241111365.html
END:VEVENT
END:VCALENDAR