BEGIN:VCALENDAR
VERSION:2.0
PRODID:EVENTFROG//EVENT//ICAL
BEGIN:VEVENT
UID:20260424T105727Z-7449934794429855046@eventfrog.de
DTSTAMP:20260424T105727Z
DTSTART:20261128T190000Z
DTEND:20261129T030000Z
SUMMARY:Feine Musik
DESCRIPTION:Die grosse Clubnacht der elektronischen Leckerbissen!\n\nhttps://eventfrog.de/de/p/partys/feine-musik-7449934794429855046.html
LOCATION:Gare de Lion
GEO:47.461330;9.032780
URL:https://eventfrog.de/de/p/partys/feine-musik-7449934794429855046.html
END:VEVENT
END:VCALENDAR