BEGIN:VCALENDAR
VERSION:2.0
PRODID:EVENTFROG//EVENT//ICAL
BEGIN:VEVENT
UID:20260419T161029Z-7450085774626704556@eventfrog.de
DTSTAMP:20260419T161029Z
DTSTART:20260620T170000Z
DTEND:20260620T190000Z
SUMMARY:Genesis, Pink Floyd & Tatort – Popmusik auf der Kirchenorgel
DESCRIPTION:Michael Schütz (Berlin) entführt die Zuhörer in die Welt der populären Hits aus Pop, Rock und Filmmusik – das ist ganz großes Kino! Geeignet für alle Altersgruppen und Musikinteressierte.\n\nhttps://eventfrog.de/de/p/konzerte/pop-rock/genesis-pink-floyd-tatort-popmusik-auf-der-kirchenorgel-7450085774626704556.html
LOCATION:Trinitatiskirche Charlottenburg, Karl-August-Platz, 10625 Berlin
GEO:52.508476;13.310362
URL:https://eventfrog.de/de/p/konzerte/pop-rock/genesis-pink-floyd-tatort-popmusik-auf-der-kirchenorgel-7450085774626704556.html
END:VEVENT
END:VCALENDAR