BEGIN:VCALENDAR
VERSION:2.0
PRODID:EVENTFROG//EVENT//ICAL
BEGIN:VEVENT
UID:20260420T080248Z-7450086851593956379@eventfrog.de
DTSTAMP:20260420T080248Z
DTSTART:20260426T080000Z
DTEND:20260426T120000Z
SUMMARY:"Mädels Day" Wildnispädagogik-Tag nur für Mädels
DESCRIPTION:Wir bieten ein Naturangebot mit Schwerpunkt Wildnispädagogik für Kinder an. \n\nhttps://eventfrog.de/de/p/kinderveranstaltungen/kurs/maedels-day-wildnispaedagogik-tag-nur-fuer-maedels-7450086851593956379.html
LOCATION:Wanderparkplatz
GEO:48.048748;11.090808
URL:https://eventfrog.de/de/p/kinderveranstaltungen/kurs/maedels-day-wildnispaedagogik-tag-nur-fuer-maedels-7450086851593956379.html
END:VEVENT
END:VCALENDAR