BEGIN:VCALENDAR
VERSION:2.0
PRODID:EVENTFROG//EVENT//ICAL
BEGIN:VEVENT
UID:20260425T040717Z-7450112582512334131@eventfrog.de
DTSTAMP:20260425T040717Z
DTSTART:20260430T163000Z
DTEND:20260430T180000Z
SUMMARY:Zauberhaufte Märchen an einem Frühlingsabend
DESCRIPTION:Märchen an einem Frühlingsabend\n\nhttps://eventfrog.de/de/p/diverses/zauberhaufte-maerchen-an-einem-fruehlingsabend-7450112582512334131.html
LOCATION:Spitalkirche
GEO:49.327283;11.017167
URL:https://eventfrog.de/de/p/diverses/zauberhaufte-maerchen-an-einem-fruehlingsabend-7450112582512334131.html
END:VEVENT
END:VCALENDAR