BEGIN:VCALENDAR
VERSION:2.0
PRODID:EVENTFROG//EVENT//ICAL
BEGIN:VEVENT
UID:20260421T115813Z-7450112676355695328@eventfrog.de
DTSTAMP:20260421T115813Z
DTSTART:20260430T095000Z
DTEND:20260430T110000Z
SUMMARY:Studio 9. Der Tag mit mit Benjamin von Stuckrad-Barre
DESCRIPTION:Deutschlandfunk Kultur sendet live aus der Mechanischen Arena im Humboldt Forum, mit der Moderatorin Ronja von Rönne und prominenten Gästen.\n\nhttps://eventfrog.de/de/p/fuehrungen-vortraege/vortrag/studio-9-der-tag-mit-mit-benjamin-von-stuckrad-barre-7450112676355695328.html
LOCATION:Humboldt Forum
GEO:52.517275;13.401640
URL:https://eventfrog.de/de/p/fuehrungen-vortraege/vortrag/studio-9-der-tag-mit-mit-benjamin-von-stuckrad-barre-7450112676355695328.html
END:VEVENT
END:VCALENDAR