BEGIN:VCALENDAR
VERSION:2.0
PRODID:EVENTFROG//EVENT//ICAL
BEGIN:VEVENT
UID:20260425T230234Z-7450120974140206830@eventfrog.de
DTSTAMP:20260425T230234Z
DTSTART:20260527T120000Z
DTEND:20260527T140000Z
SUMMARY:Schweizer Vorlesetag in der RBA
DESCRIPTION:Am 27. Mai liest die RBA von 14 bis 16 Uhr für Kinder gratis Geschichten vor, ohne Anmeldung und unter dem Motto «Vorlesen baut Brücken».\n\nhttps://eventfrog.de/de/p/diverses/schweizer-vorlesetag-in-der-rba-7450120974140206830.html
LOCATION:Regionalbibliothek Affoltern
GEO:47.277639;8.446184
URL:https://eventfrog.de/de/p/diverses/schweizer-vorlesetag-in-der-rba-7450120974140206830.html
END:VEVENT
END:VCALENDAR