BEGIN:VCALENDAR
VERSION:2.0
PRODID:EVENTFROG//EVENT//ICAL
BEGIN:VEVENT
UID:20260419T171049Z-7450141588041261590@eventfrog.de
DTSTAMP:20260419T171049Z
DTSTART:20260512T170000Z
DTEND:20260512T180000Z
SUMMARY:Dauerstress? Mentale Klarheit trotz voller Verantwortung
DESCRIPTION:Onlinekurs über 6 Wochen vermittelt die Coué-Methode zur bewussten Gedankenführung für mehr Ruhe und Selbstbestimmung.\n\nhttps://eventfrog.de/de/p/gesundheit-spiritualitaet/gesundheit-wohlbefinden/dauerstress-mentale-klarheit-trotz-voller-verantwortung-7450141588041261590.html
LOCATION:Raus aus dem Dauerstress
URL:https://eventfrog.de/de/p/gesundheit-spiritualitaet/gesundheit-wohlbefinden/dauerstress-mentale-klarheit-trotz-voller-verantwortung-7450141588041261590.html
END:VEVENT
END:VCALENDAR